BEGIN:VCALENDAR
VERSION:2.0
PRODID:-//hsp.agency//NONSGML kigkonsult.se iCalcreator 2.30.10//
CALSCALE:GREGORIAN
METHOD:PUBLISH
UID:439e485d-2296-4ce9-a5dd-68760f22f9d9
X-WR-CALDESC:On Thursday\, September 28\, the Next Generation Initiative (N
 GI) hosts its fall social at Blackberry Market in Glen Ellyn (401 N. Main 
 St.\, Glen Ellyn). Embrace the crisp autumn air and the spirit of giving a
 s we come together to positively impact our community. Engage in meaningfu
 l conversations with fellow attendees\, old friends\, and new acquaintance
 s. Proceed benefit HSP!
X-WR-RELCALID:148948aaec5be95b2cef0dbfa7bb64a1
X-WR-TIMEZONE:America/Chicago
BEGIN:VTIMEZONE
TZID:America/Chicago
BEGIN:STANDARD
TZNAME:CST
DTSTART:20221106T020000
TZOFFSETFROM:-0500
TZOFFSETTO:-0600
RDATE:20231105T020000
RDATE:20241103T020000
END:STANDARD
BEGIN:DAYLIGHT
TZNAME:CDT
DTSTART:20230312T020000
TZOFFSETFROM:-0600
TZOFFSETTO:-0500
RDATE:20240310T020000
RDATE:20250309T020000
END:DAYLIGHT
END:VTIMEZONE
BEGIN:VEVENT
UID:f9a012b7-1a79-4972-ac9f-7b6ccf6303ec
DTSTAMP:20260422T081507Z
DESCRIPTION:On Thursday\, September 28\, the Next Generation Initiative (NG
 I) hosts its fall social at Blackberry Market in Glen Ellyn (401 N. Main S
 t.\, Glen Ellyn). Embrace the crisp autumn air and the spirit of giving as
  we come together to positively impact our community. Engage in meaningful
  conversations with fellow attendees\, old friends\, and new acquaintances
 . Proceed benefit HSP!
DTSTART;TZID=America/Chicago:20230928T180000
DTEND;TZID=America/Chicago:20230928T200000
LOCATION:401 N Main Street\, Glen Ellyn\, IL 60137 US
SUMMARY:NGI Fall Social
END:VEVENT
END:VCALENDAR
