BEGIN:VCALENDAR
VERSION:2.0
PRODID:-//hsp.agency//NONSGML kigkonsult.se iCalcreator 2.30.10//
CALSCALE:GREGORIAN
METHOD:PUBLISH
UID:c2e17046-b3f5-4e8c-aaad-481bd67b57cd
X-WR-CALDESC:JOIN US\n\nFor our Shred & Stock event benefitting the seniors
 \, children\, and families we serve! \n\nDo you have a box that needs to b
 e shredded? Bring it to HSP on the 30th!\nFor every box of shredding\, we 
 ask that you donate an item to our warehouse or $5.\n\nThere will be: \n\n
 SHREDDING - FOOD TRUCKS - FACE PAINTING - RAFFLES - TOURS OF HSP - MUSIC
X-WR-RELCALID:b97412ba6e97ae34944571ffa8007a70
X-WR-TIMEZONE:America/Chicago
BEGIN:VTIMEZONE
TZID:America/Chicago
BEGIN:STANDARD
TZNAME:CST
DTSTART:20221106T020000
TZOFFSETFROM:-0500
TZOFFSETTO:-0600
RDATE:20231105T020000
RDATE:20241103T020000
END:STANDARD
BEGIN:DAYLIGHT
TZNAME:CDT
DTSTART:20230312T020000
TZOFFSETFROM:-0600
TZOFFSETTO:-0500
RDATE:20240310T020000
RDATE:20250309T020000
END:DAYLIGHT
END:VTIMEZONE
BEGIN:VEVENT
UID:aa17ee78-c93f-430c-9de7-4605f1a02898
DTSTAMP:20260422T081038Z
DESCRIPTION:JOIN US\n\nFor our Shred & Stock event benefitting the seniors\
 , children\, and families we serve! \n\nDo you have a box that needs to be
  shredded? Bring it to HSP on the 30th!\nFor every box of shredding\, we a
 sk that you donate an item to our warehouse or $5.\n\nThere will be: \n\nS
 HREDDING - FOOD TRUCKS - FACE PAINTING - RAFFLES - TOURS OF HSP - MUSIC
DTSTART;TZID=America/Chicago:20230930T100000
DTEND;TZID=America/Chicago:20230930T130000
LOCATION:465 Randy Road\, Carol Stream\, IL 60188 US
SUMMARY:HSP Shred & Stock
END:VEVENT
END:VCALENDAR
